BEGIN:VCALENDAR
VERSION:2.0
PRODID:-//Roslagens Flygklubb - ECPv6.15.20//NONSGML v1.0//EN
CALSCALE:GREGORIAN
METHOD:PUBLISH
X-ORIGINAL-URL:https://rfk.nu
X-WR-CALDESC:Händelser för Roslagens Flygklubb
REFRESH-INTERVAL;VALUE=DURATION:PT1H
X-Robots-Tag:noindex
X-PUBLISHED-TTL:PT1H
BEGIN:VTIMEZONE
TZID:Europe/Stockholm
BEGIN:DAYLIGHT
TZOFFSETFROM:+0100
TZOFFSETTO:+0200
TZNAME:CEST
DTSTART:20180325T010000
END:DAYLIGHT
BEGIN:STANDARD
TZOFFSETFROM:+0200
TZOFFSETTO:+0100
TZNAME:CET
DTSTART:20181028T010000
END:STANDARD
BEGIN:DAYLIGHT
TZOFFSETFROM:+0100
TZOFFSETTO:+0200
TZNAME:CEST
DTSTART:20190331T010000
END:DAYLIGHT
BEGIN:STANDARD
TZOFFSETFROM:+0200
TZOFFSETTO:+0100
TZNAME:CET
DTSTART:20191027T010000
END:STANDARD
BEGIN:DAYLIGHT
TZOFFSETFROM:+0100
TZOFFSETTO:+0200
TZNAME:CEST
DTSTART:20200329T010000
END:DAYLIGHT
BEGIN:STANDARD
TZOFFSETFROM:+0200
TZOFFSETTO:+0100
TZNAME:CET
DTSTART:20201025T010000
END:STANDARD
END:VTIMEZONE
BEGIN:VEVENT
DTSTART;TZID=Europe/Stockholm:20190821T120000
DTEND;TZID=Europe/Stockholm:20190821T190000
DTSTAMP:20260422T153502
CREATED:20190820T055955Z
LAST-MODIFIED:20190820T055955Z
UID:898-1566388800-1566414000@rfk.nu
SUMMARY:UL Flyg med Dynamic WT9
DESCRIPTION:Vi får besök av Håkan Karlsson\, Lightsportaviation för att visa UL flygplanen Dynamic WT9 och Skyline.
URL:https://rfk.nu/event/ul-flyg-med-dynamic-wt9/
CATEGORIES:Klubbaktivitet,Motorflyg
END:VEVENT
END:VCALENDAR