BEGIN:VCALENDAR
VERSION:2.0
PRODID:-//Roslagens Flygklubb - ECPv6.15.20//NONSGML v1.0//EN
CALSCALE:GREGORIAN
METHOD:PUBLISH
X-ORIGINAL-URL:https://rfk.nu
X-WR-CALDESC:Händelser för Roslagens Flygklubb
REFRESH-INTERVAL;VALUE=DURATION:PT1H
X-Robots-Tag:noindex
X-PUBLISHED-TTL:PT1H
BEGIN:VTIMEZONE
TZID:Europe/Stockholm
BEGIN:DAYLIGHT
TZOFFSETFROM:+0100
TZOFFSETTO:+0200
TZNAME:CEST
DTSTART:20220327T010000
END:DAYLIGHT
BEGIN:STANDARD
TZOFFSETFROM:+0200
TZOFFSETTO:+0100
TZNAME:CET
DTSTART:20221030T010000
END:STANDARD
BEGIN:DAYLIGHT
TZOFFSETFROM:+0100
TZOFFSETTO:+0200
TZNAME:CEST
DTSTART:20230326T010000
END:DAYLIGHT
BEGIN:STANDARD
TZOFFSETFROM:+0200
TZOFFSETTO:+0100
TZNAME:CET
DTSTART:20231029T010000
END:STANDARD
BEGIN:DAYLIGHT
TZOFFSETFROM:+0100
TZOFFSETTO:+0200
TZNAME:CEST
DTSTART:20240331T010000
END:DAYLIGHT
BEGIN:STANDARD
TZOFFSETFROM:+0200
TZOFFSETTO:+0100
TZNAME:CET
DTSTART:20241027T010000
END:STANDARD
END:VTIMEZONE
BEGIN:VEVENT
DTSTART;TZID=Europe/Stockholm:20230216T190000
DTEND;TZID=Europe/Stockholm:20230216T210000
DTSTAMP:20260420T045452
CREATED:20230104T122815Z
LAST-MODIFIED:20230104T122815Z
UID:1986-1676574000-1676581200@rfk.nu
SUMMARY:Klubbmöte nr 3
DESCRIPTION:
URL:https://rfk.nu/event/klubbmote-nr-3/
LOCATION:Roslagen Norrtälje flygplats\, Flygfiskvägen 20\, Norrtälje\, Sverige
CATEGORIES:Klubbaktivitet
END:VEVENT
END:VCALENDAR