BEGIN:VCALENDAR
VERSION:2.0
PRODID:-//Roslagens Flygklubb - ECPv6.15.20//NONSGML v1.0//EN
CALSCALE:GREGORIAN
METHOD:PUBLISH
X-ORIGINAL-URL:https://rfk.nu
X-WR-CALDESC:Händelser för Roslagens Flygklubb
REFRESH-INTERVAL;VALUE=DURATION:PT1H
X-Robots-Tag:noindex
X-PUBLISHED-TTL:PT1H
BEGIN:VTIMEZONE
TZID:Europe/Stockholm
BEGIN:DAYLIGHT
TZOFFSETFROM:+0100
TZOFFSETTO:+0200
TZNAME:CEST
DTSTART:20190331T010000
END:DAYLIGHT
BEGIN:STANDARD
TZOFFSETFROM:+0200
TZOFFSETTO:+0100
TZNAME:CET
DTSTART:20191027T010000
END:STANDARD
BEGIN:DAYLIGHT
TZOFFSETFROM:+0100
TZOFFSETTO:+0200
TZNAME:CEST
DTSTART:20200329T010000
END:DAYLIGHT
BEGIN:STANDARD
TZOFFSETFROM:+0200
TZOFFSETTO:+0100
TZNAME:CET
DTSTART:20201025T010000
END:STANDARD
BEGIN:DAYLIGHT
TZOFFSETFROM:+0100
TZOFFSETTO:+0200
TZNAME:CEST
DTSTART:20210328T010000
END:DAYLIGHT
BEGIN:STANDARD
TZOFFSETFROM:+0200
TZOFFSETTO:+0100
TZNAME:CET
DTSTART:20211031T010000
END:STANDARD
END:VTIMEZONE
BEGIN:VEVENT
DTSTART;TZID=Europe/Stockholm:20200623T190000
DTEND;TZID=Europe/Stockholm:20200623T210000
DTSTAMP:20260422T023439
CREATED:20200615T111627Z
LAST-MODIFIED:20200615T111627Z
UID:1118-1592938800-1592946000@rfk.nu
SUMMARY:Årsmöte RFK
DESCRIPTION:På plats i klubbstugan alternativt digitalt möte. \nInbjudan skickas ut separat via mail till alla medlemmar.
URL:https://rfk.nu/event/arsmote-rfk/
LOCATION:Roslagen Norrtälje flygplats\, Flygfiskvägen 20\, Norrtälje\, Sverige
CATEGORIES:Klubbaktivitet
END:VEVENT
END:VCALENDAR