BEGIN:VCALENDAR
VERSION:2.0
PRODID:-//Roslagens Flygklubb - ECPv6.15.20//NONSGML v1.0//EN
CALSCALE:GREGORIAN
METHOD:PUBLISH
X-WR-CALNAME:Roslagens Flygklubb
X-ORIGINAL-URL:https://rfk.nu
X-WR-CALDESC:Händelser för Roslagens Flygklubb
REFRESH-INTERVAL;VALUE=DURATION:PT1H
X-Robots-Tag:noindex
X-PUBLISHED-TTL:PT1H
BEGIN:VTIMEZONE
TZID:Europe/Stockholm
BEGIN:DAYLIGHT
TZOFFSETFROM:+0100
TZOFFSETTO:+0200
TZNAME:CEST
DTSTART:20180325T010000
END:DAYLIGHT
BEGIN:STANDARD
TZOFFSETFROM:+0200
TZOFFSETTO:+0100
TZNAME:CET
DTSTART:20181028T010000
END:STANDARD
BEGIN:DAYLIGHT
TZOFFSETFROM:+0100
TZOFFSETTO:+0200
TZNAME:CEST
DTSTART:20190331T010000
END:DAYLIGHT
BEGIN:STANDARD
TZOFFSETFROM:+0200
TZOFFSETTO:+0100
TZNAME:CET
DTSTART:20191027T010000
END:STANDARD
BEGIN:DAYLIGHT
TZOFFSETFROM:+0100
TZOFFSETTO:+0200
TZNAME:CEST
DTSTART:20200329T010000
END:DAYLIGHT
BEGIN:STANDARD
TZOFFSETFROM:+0200
TZOFFSETTO:+0100
TZNAME:CET
DTSTART:20201025T010000
END:STANDARD
END:VTIMEZONE
BEGIN:VEVENT
DTSTART;TZID=Europe/Stockholm:20190904T180000
DTEND;TZID=Europe/Stockholm:20190904T200000
DTSTAMP:20260422T131439
CREATED:20190510T085223Z
LAST-MODIFIED:20190510T085223Z
UID:824-1567620000-1567627200@rfk.nu
SUMMARY:Klubbmöte (onsdagsmöte)
DESCRIPTION:
URL:https://rfk.nu/event/klubbmote-onsdagsmote-7/
CATEGORIES:Klubbaktivitet
END:VEVENT
END:VCALENDAR