BEGIN:VCALENDAR
VERSION:2.0
PRODID:-//Roslagens Flygklubb - ECPv6.15.20//NONSGML v1.0//EN
CALSCALE:GREGORIAN
METHOD:PUBLISH
X-WR-CALNAME:Roslagens Flygklubb
X-ORIGINAL-URL:https://rfk.nu
X-WR-CALDESC:Händelser för Roslagens Flygklubb
REFRESH-INTERVAL;VALUE=DURATION:PT1H
X-Robots-Tag:noindex
X-PUBLISHED-TTL:PT1H
BEGIN:VTIMEZONE
TZID:Europe/Stockholm
BEGIN:DAYLIGHT
TZOFFSETFROM:+0100
TZOFFSETTO:+0200
TZNAME:CEST
DTSTART:20190331T010000
END:DAYLIGHT
BEGIN:STANDARD
TZOFFSETFROM:+0200
TZOFFSETTO:+0100
TZNAME:CET
DTSTART:20191027T010000
END:STANDARD
BEGIN:DAYLIGHT
TZOFFSETFROM:+0100
TZOFFSETTO:+0200
TZNAME:CEST
DTSTART:20200329T010000
END:DAYLIGHT
BEGIN:STANDARD
TZOFFSETFROM:+0200
TZOFFSETTO:+0100
TZNAME:CET
DTSTART:20201025T010000
END:STANDARD
BEGIN:DAYLIGHT
TZOFFSETFROM:+0100
TZOFFSETTO:+0200
TZNAME:CEST
DTSTART:20210328T010000
END:DAYLIGHT
BEGIN:STANDARD
TZOFFSETFROM:+0200
TZOFFSETTO:+0100
TZNAME:CET
DTSTART:20211031T010000
END:STANDARD
END:VTIMEZONE
BEGIN:VEVENT
DTSTART;TZID=Europe/Stockholm:20200610T190000
DTEND;TZID=Europe/Stockholm:20200610T210000
DTSTAMP:20260422T022813
CREATED:20200506T185214Z
LAST-MODIFIED:20200506T185214Z
UID:1056-1591815600-1591822800@rfk.nu
SUMMARY:Information om flygverksamheten på Norrtälje Flygplats
DESCRIPTION:
URL:https://rfk.nu/event/information-om-flygverksamheten-pa-norrtalje-flygplats/
LOCATION:Roslagen Norrtälje flygplats\, Flygfiskvägen 20\, Norrtälje\, Sverige
CATEGORIES:Flygplatsen
END:VEVENT
BEGIN:VEVENT
DTSTART;TZID=Europe/Stockholm:20200613T100000
DTEND;TZID=Europe/Stockholm:20200613T150000
DTSTAMP:20260422T022813
CREATED:20200525T125106Z
LAST-MODIFIED:20200525T125106Z
UID:1066-1592042400-1592060400@rfk.nu
SUMMARY:Fly-In Roslagens Flygklubb
DESCRIPTION:
URL:https://rfk.nu/event/fly-in-roslagens-flygklubb/
LOCATION:Roslagen Norrtälje flygplats\, Flygfiskvägen 20\, Norrtälje\, Sverige
CATEGORIES:Flygplatsen
END:VEVENT
END:VCALENDAR